BEGIN:VCALENDAR
VERSION:2.0
METHOD:PUBLISH
PRODID::-//Obvius//NONSGML ICal//DA
BEGIN:VEVENT
UID:4226594@sodas.ku.dk
DESCRIPTION:Title: Virtual Management during the Corona Crisis – resul
 ts and methodological considerations\n\nhttps://sodas.ku.dk/events/distrac
 t-seminar-with-steen-erik-navrbjerg/
SUMMARY:DISTRACT seminar with Steen Erik Navrbjerg
CATEGORIES:Seminar
LOCATION:CSS\, Øster Farimagsgade 5a\, SODAS conference room 1.2.26
ORGANIZER:DISTRACT - SODAS
DTSTART:20220325T100000Z
DTSTAMP:20220325T100000Z
DTEND:20220325T110000Z
END:VEVENT
END:VCALENDAR
