BEGIN:VCALENDAR
VERSION:2.0
METHOD:PUBLISH
PRODID::-//Obvius//NONSGML ICal//DA
BEGIN:VEVENT
UID:5012664@sodas.ku.dk
DESCRIPTION:SODAS is delighted to host Kelton Minor and Sandro Sousa for t
 he Spring 2026 Data Discussion series!\n\nhttps://sodas.ku.dk/events/sodas
 -data-discussion-3-spring-2026/
SUMMARY:SODAS Data Discussion 3 (Spring 2026)
CATEGORIES:Forelæsning
LOCATION:CSS\, Øster Farimagsgade 5a\, SODAS Conference Room 1.1.12
ORGANIZER:SODAS
DTSTART:20260424T090000Z
DTSTAMP:20260424T090000Z
DTEND:20260424T100000Z
END:VEVENT
BEGIN:VEVENT
UID:5002833@sodas.ku.dk
DESCRIPTION:SODAS is delighted to host Sebastian Stier from GESIS – Lei
 bniz Institute for the Social Sciences and University of Mannheim!\n\nht
 tps://sodas.ku.dk/events/sodas-lecture-with-sebastian-stier/
SUMMARY:SODAS Lecture with Sebastian Stier
CATEGORIES:Forelæsning
LOCATION:CSS\, Øster Farimagsgade 5a\, SODAS Conference Room 1.1.12
ORGANIZER:SODAS
DTSTART:20260508T090000Z
DTSTAMP:20260508T090000Z
DTEND:20260508T103000Z
END:VEVENT
BEGIN:VEVENT
UID:5012673@sodas.ku.dk
DESCRIPTION:SODAS is delighted to host CAISA Fellows Agnete Meldgaard Hans
 en and Jun Liu for the Spring 2026 Data Discussion series!\n\nhttps://soda
 s.ku.dk/events/sodas-data-discussion-4-spring-2026/
SUMMARY:SODAS Data Discussion 4 (Spring 2026)
CATEGORIES:Forelæsning
LOCATION:CSS\, Øster Farimagsgade 5a\, SODAS Conference Room 1.1.12
ORGANIZER:SODAS
DTSTART:20260522T090000Z
DTSTAMP:20260522T090000Z
DTEND:20260522T100000Z
END:VEVENT
END:VCALENDAR
